BEGIN:VCALENDAR
VERSION:2.0
PRODID:-//Michigan Dental Hygienists&#039; Association - ECPv6.15.20//NONSGML v1.0//EN
CALSCALE:GREGORIAN
METHOD:PUBLISH
X-WR-CALNAME:Michigan Dental Hygienists&#039; Association
X-ORIGINAL-URL:https://mdhatoday.org
X-WR-CALDESC:Events for Michigan Dental Hygienists&#039; Association
REFRESH-INTERVAL;VALUE=DURATION:PT1H
X-Robots-Tag:noindex
X-PUBLISHED-TTL:PT1H
BEGIN:VTIMEZONE
TZID:America/Detroit
BEGIN:DAYLIGHT
TZOFFSETFROM:-0500
TZOFFSETTO:-0400
TZNAME:EDT
DTSTART:20220313T070000
END:DAYLIGHT
BEGIN:STANDARD
TZOFFSETFROM:-0400
TZOFFSETTO:-0500
TZNAME:EST
DTSTART:20221106T060000
END:STANDARD
BEGIN:DAYLIGHT
TZOFFSETFROM:-0500
TZOFFSETTO:-0400
TZNAME:EDT
DTSTART:20230312T070000
END:DAYLIGHT
BEGIN:STANDARD
TZOFFSETFROM:-0400
TZOFFSETTO:-0500
TZNAME:EST
DTSTART:20231105T060000
END:STANDARD
BEGIN:DAYLIGHT
TZOFFSETFROM:-0500
TZOFFSETTO:-0400
TZNAME:EDT
DTSTART:20240310T070000
END:DAYLIGHT
BEGIN:STANDARD
TZOFFSETFROM:-0400
TZOFFSETTO:-0500
TZNAME:EST
DTSTART:20241103T060000
END:STANDARD
BEGIN:DAYLIGHT
TZOFFSETFROM:-0500
TZOFFSETTO:-0400
TZNAME:EDT
DTSTART:20250309T070000
END:DAYLIGHT
BEGIN:STANDARD
TZOFFSETFROM:-0400
TZOFFSETTO:-0500
TZNAME:EST
DTSTART:20251102T060000
END:STANDARD
END:VTIMEZONE
BEGIN:VEVENT
DTSTART;TZID=America/Detroit:20240603T193000
DTEND;TZID=America/Detroit:20240603T193000
DTSTAMP:20260425T222250
CREATED:20240115T021324Z
LAST-MODIFIED:20240115T021324Z
UID:6115-1717443000-1717443000@mdhatoday.org
SUMMARY:Public Health Council
DESCRIPTION:https://us02web.zoom.us/j/88011726548 \nPlease copy URL to the browser
URL:https://mdhatoday.org/event/public-health-council-3/
LOCATION:Zoom Virtual Meetings
END:VEVENT
BEGIN:VEVENT
DTSTART;TZID=America/Detroit:20240603T190000
DTEND;TZID=America/Detroit:20240603T190000
DTSTAMP:20260425T222250
CREATED:20240115T021556Z
LAST-MODIFIED:20240115T021556Z
UID:6123-1717441200-1717441200@mdhatoday.org
SUMMARY:Legislative Council Dates
DESCRIPTION:
URL:https://mdhatoday.org/event/legislative-council-dates-3/
LOCATION:Zoom Virtual Meetings
END:VEVENT
BEGIN:VEVENT
DTSTART;TZID=America/Detroit:20240521T190000
DTEND;TZID=America/Detroit:20240521T190000
DTSTAMP:20260425T222250
CREATED:20240115T021958Z
LAST-MODIFIED:20240115T021958Z
UID:6137-1716318000-1716318000@mdhatoday.org
SUMMARY:Education Council
DESCRIPTION:
URL:https://mdhatoday.org/event/education-council-4/
END:VEVENT
BEGIN:VEVENT
DTSTART;TZID=America/Detroit:20240520T193000
DTEND;TZID=America/Detroit:20240520T193000
DTSTAMP:20260425T222250
CREATED:20240115T020950Z
LAST-MODIFIED:20240115T020950Z
UID:6107-1716233400-1716233400@mdhatoday.org
SUMMARY:Membership Council
DESCRIPTION:https://zoom.us/j/97392813536 \nPlease copy the above url into your browser
URL:https://mdhatoday.org/event/membership-council-11/
LOCATION:Zoom Virtual Meetings
END:VEVENT
BEGIN:VEVENT
DTSTART;TZID=America/Detroit:20240426T080000
DTEND;TZID=America/Detroit:20240426T163000
DTSTAMP:20260425T222250
CREATED:20240403T023305Z
LAST-MODIFIED:20240403T023305Z
UID:6267-1714118400-1714149000@mdhatoday.org
SUMMARY:Spring CE Seminar
DESCRIPTION:2024 Spring CE Seminar \nJoin us for a fun and exciting CE event\, offering 7.5 CE units!!!
URL:https://mdhatoday.org/event/spring-ce-seminar/
LOCATION:The Alpex\, 701 Woodward Avenue\, Alpena\, MI\, The Alpex\, 701 Woodward Avenue\, Alpena\, MI\, Alpena\, MI\, 49707\, United States
END:VEVENT
BEGIN:VEVENT
DTSTART;TZID=America/Detroit:20240420T090000
DTEND;TZID=America/Detroit:20240420T170000
DTSTAMP:20260425T222250
CREATED:20240115T022635Z
LAST-MODIFIED:20240115T022635Z
UID:6159-1713603600-1713632400@mdhatoday.org
SUMMARY:BOT Meeting
DESCRIPTION:
URL:https://mdhatoday.org/event/bot-meeting-6/
LOCATION:Zoom Virtual Meetings
END:VEVENT
BEGIN:VEVENT
DTSTART;TZID=America/Detroit:20240411T100000
DTEND;TZID=America/Detroit:20240411T170000
DTSTAMP:20260425T222250
CREATED:20240115T022557Z
LAST-MODIFIED:20240115T022557Z
UID:6157-1712829600-1712854800@mdhatoday.org
SUMMARY:Michigan Board of Dentistry Meeting
DESCRIPTION:
URL:https://mdhatoday.org/event/michigan-board-of-dentistry-meeting-3/
END:VEVENT
BEGIN:VEVENT
DTSTART;TZID=America/Detroit:20240320T113000
DTEND;TZID=America/Detroit:20240320T133000
DTSTAMP:20260425T222250
CREATED:20240224T034525Z
LAST-MODIFIED:20240224T034735Z
UID:6228-1710934200-1710941400@mdhatoday.org
SUMMARY:Legislative Luncheon
DESCRIPTION:This annual tradition is open for all MDHA members to attend and provides an opportunity for 1 CE Unit. \nParticipants will include legislators and legislative staff along with dental hygienists from across the state. This luncheon will offer an opportunity to converse with elected officials about issues that are relevant to the field\, as well as a chance to learn more about the work they do in the legislature. We will have our MDHA participants sorted by table\, so you will have the opportunity to directly connect with elected officials from your district. \nTo ensure we best accommodate food and attendance\, please RSVP by Friday\, March 8th.
URL:https://mdhatoday.org/event/legislative-luncheon-3/
LOCATION:124 N Capitol avenue\, lansing\, MI 48933\, Mackinaw Room\, House office building\, 124 N Capitol Avenue\,\, Lansing\, MI\, 48933\, United States
END:VEVENT
BEGIN:VEVENT
DTSTART;TZID=America/Detroit:20240312T193000
DTEND;TZID=America/Detroit:20240312T193000
DTSTAMP:20260425T222250
CREATED:20240115T021702Z
LAST-MODIFIED:20240115T021702Z
UID:6127-1710271800-1710271800@mdhatoday.org
SUMMARY:Communication Council
DESCRIPTION:
URL:https://mdhatoday.org/event/communication-council-9/
END:VEVENT
BEGIN:VEVENT
DTSTART;TZID=America/Detroit:20240311T190000
DTEND;TZID=America/Detroit:20240311T190000
DTSTAMP:20260425T222250
CREATED:20240115T022344Z
LAST-MODIFIED:20240115T022344Z
UID:6149-1710183600-1710183600@mdhatoday.org
SUMMARY:Finance Council
DESCRIPTION:
URL:https://mdhatoday.org/event/finance-council-7/
END:VEVENT
BEGIN:VEVENT
DTSTART;TZID=America/Detroit:20240305T190000
DTEND;TZID=America/Detroit:20240305T190000
DTSTAMP:20260425T222250
CREATED:20240115T022105Z
LAST-MODIFIED:20240115T022105Z
UID:6141-1709665200-1709665200@mdhatoday.org
SUMMARY:DEI Council
DESCRIPTION:
URL:https://mdhatoday.org/event/dei-council-3/
END:VEVENT
BEGIN:VEVENT
DTSTART;TZID=America/Detroit:20240304T193000
DTEND;TZID=America/Detroit:20240304T193000
DTSTAMP:20260425T222250
CREATED:20240115T021213Z
LAST-MODIFIED:20240115T021213Z
UID:6113-1709580600-1709580600@mdhatoday.org
SUMMARY:Public Health Council
DESCRIPTION:https://us02web.zoom.us/j/88011726548 \nPlease copy the url to your browser
URL:https://mdhatoday.org/event/public-health-council-2/
LOCATION:Zoom Virtual Meetings
END:VEVENT
BEGIN:VEVENT
DTSTART;TZID=America/Detroit:20240304T190000
DTEND;TZID=America/Detroit:20240304T190000
DTSTAMP:20260425T222250
CREATED:20240115T021527Z
LAST-MODIFIED:20240115T021527Z
UID:6121-1709578800-1709578800@mdhatoday.org
SUMMARY:Legislative Council Dates
DESCRIPTION:
URL:https://mdhatoday.org/event/legislative-council-dates-2/
LOCATION:Zoom Virtual Meetings
END:VEVENT
BEGIN:VEVENT
DTSTART;TZID=America/Detroit:20240226T193000
DTEND;TZID=America/Detroit:20240226T193000
DTSTAMP:20260425T222250
CREATED:20240115T020915Z
LAST-MODIFIED:20240115T020915Z
UID:6105-1708975800-1708975800@mdhatoday.org
SUMMARY:Membership Council
DESCRIPTION:https://zoom.us/j/97392813536 \nPlease copy the above url into your browser
URL:https://mdhatoday.org/event/membership-council-10/
LOCATION:Zoom Virtual Meetings
END:VEVENT
BEGIN:VEVENT
DTSTART;TZID=America/Detroit:20240208T100000
DTEND;TZID=America/Detroit:20240208T170000
DTSTAMP:20260425T222250
CREATED:20240115T020316Z
LAST-MODIFIED:20240115T020316Z
UID:6098-1707386400-1707411600@mdhatoday.org
SUMMARY:Michigan Board of Dentistry Meeting
DESCRIPTION:https://us02web.zoom.us/j/88011726548 \nPlease copy above URL into your browser.
URL:https://mdhatoday.org/event/michigan-board-of-dentistry-meeting-2/
LOCATION:Zoom Virtual Meetings
END:VEVENT
BEGIN:VEVENT
DTSTART;TZID=America/Detroit:20240116T190000
DTEND;TZID=America/Detroit:20240116T190000
DTSTAMP:20260425T222250
CREATED:20240115T021845Z
LAST-MODIFIED:20240115T021845Z
UID:6133-1705431600-1705431600@mdhatoday.org
SUMMARY:Education Council
DESCRIPTION:
URL:https://mdhatoday.org/event/education-council-2/
END:VEVENT
BEGIN:VEVENT
DTSTART;TZID=America/Detroit:20240113T090000
DTEND;TZID=America/Detroit:20240113T170000
DTSTAMP:20260425T222250
CREATED:20240115T022515Z
LAST-MODIFIED:20240115T022515Z
UID:6155-1705136400-1705165200@mdhatoday.org
SUMMARY:BOT Meeting
DESCRIPTION:
URL:https://mdhatoday.org/event/bot-meeting-5/
END:VEVENT
BEGIN:VEVENT
DTSTART;TZID=America/Detroit:20240113T090000
DTEND;TZID=America/Detroit:20240113T170000
DTSTAMP:20260425T222250
CREATED:20240115T020402Z
LAST-MODIFIED:20240115T020402Z
UID:6100-1705136400-1705165200@mdhatoday.org
SUMMARY:BOT Meeting
DESCRIPTION:Zoom meeting
URL:https://mdhatoday.org/event/bot-meeting-4/
LOCATION:Zoom Virtual Meetings
END:VEVENT
BEGIN:VEVENT
DTSTART;TZID=America/Detroit:20231214T100000
DTEND;TZID=America/Detroit:20231214T110000
DTSTAMP:20260425T222250
CREATED:20221207T184719Z
LAST-MODIFIED:20221207T184719Z
UID:5558-1702548000-1702551600@mdhatoday.org
SUMMARY:Michigan Board of Dentistry Meeting
DESCRIPTION:All RDH’s welcomed at Board of Dentistry Meetings \n 
URL:https://mdhatoday.org/event/michigan-board-of-dentistry-meeting-2023-12-14/
LOCATION:611 W Ottawa Street\, Lansing\, MI\, 611 W Ottawa Street\, Lansing\, MI\, United States
END:VEVENT
BEGIN:VEVENT
DTSTART;TZID=America/Detroit:20231211T193000
DTEND;TZID=America/Detroit:20231211T193000
DTSTAMP:20260425T222250
CREATED:20240115T021128Z
LAST-MODIFIED:20240115T021128Z
UID:6111-1702323000-1702323000@mdhatoday.org
SUMMARY:Public Health Council
DESCRIPTION:https://us02web.zoom.us/j/88011726548 \nPlease copy the url to your browser \n 
URL:https://mdhatoday.org/event/public-health-council/
LOCATION:Zoom Virtual Meetings
END:VEVENT
BEGIN:VEVENT
DTSTART;TZID=America/Detroit:20231211T190000
DTEND;TZID=America/Detroit:20231211T190000
DTSTAMP:20260425T222250
CREATED:20240115T022305Z
LAST-MODIFIED:20240115T022305Z
UID:6147-1702321200-1702321200@mdhatoday.org
SUMMARY:Finance Council
DESCRIPTION:
URL:https://mdhatoday.org/event/finance-council-6/
END:VEVENT
BEGIN:VEVENT
DTSTART;TZID=America/Detroit:20231205T190000
DTEND;TZID=America/Detroit:20231205T190000
DTSTAMP:20260425T222250
CREATED:20240115T022039Z
LAST-MODIFIED:20240115T022039Z
UID:6139-1701802800-1701802800@mdhatoday.org
SUMMARY:DEI Council
DESCRIPTION:
URL:https://mdhatoday.org/event/dei-council-2/
END:VEVENT
BEGIN:VEVENT
DTSTART;TZID=America/Detroit:20231204T190000
DTEND;TZID=America/Detroit:20231204T190000
DTSTAMP:20260425T222250
CREATED:20240115T021457Z
LAST-MODIFIED:20240115T021457Z
UID:6119-1701716400-1701716400@mdhatoday.org
SUMMARY:Legislative Council Dates
DESCRIPTION:Meeting details to follow
URL:https://mdhatoday.org/event/legislative-council-dates/
LOCATION:Zoom Virtual Meetings
END:VEVENT
BEGIN:VEVENT
DTSTART;TZID=America/Detroit:20231201T080000
DTEND;TZID=America/Detroit:20231201T170000
DTSTAMP:20260425T222250
CREATED:20230325T003418Z
LAST-MODIFIED:20230325T003418Z
UID:5714-1701417600-1701450000@mdhatoday.org
SUMMARY:The Oral Microbiome and the Link to GI Health” and “How Does  Poor Oral Health Affect Cognitive Decline?
DESCRIPTION:“The Oral Microbiome and the Link to GI Health” and “How Does \n\n\nPoor Oral Health Affect Cognitive Decline?” Carol Jahn\, MS\n4 CE  \n\n\n\n\nDate:  December 1st\, 2023 (Friday) \n\n\n\n\nLocation:  Muskegon Innovation Hub at GVSU \n\n\nAll seminar information will be available at www.dentalseminarsmuskegon.com 
URL:https://mdhatoday.org/event/the-oral-microbiome-and-the-link-to-gi-health-and-how-does-poor-oral-health-affect-cognitive-dec/
CATEGORIES:Seminars
END:VEVENT
BEGIN:VEVENT
DTSTART;TZID=America/Detroit:20231127T193000
DTEND;TZID=America/Detroit:20231127T193000
DTSTAMP:20260425T222250
CREATED:20240115T020841Z
LAST-MODIFIED:20240115T020841Z
UID:6103-1701113400-1701113400@mdhatoday.org
SUMMARY:Membership Council
DESCRIPTION:https://zoom.us/j/97392813536 \nPlease copy the above url into your browser
URL:https://mdhatoday.org/event/membership-council-9/
LOCATION:Zoom Virtual Meetings
END:VEVENT
BEGIN:VEVENT
DTSTART;TZID=America/Detroit:20231022T080000
DTEND;TZID=America/Detroit:20231022T170000
DTSTAMP:20260425T222250
CREATED:20221213T162448Z
LAST-MODIFIED:20221213T162448Z
UID:5599-1697961600-1697994000@mdhatoday.org
SUMMARY:BOT Meeting
DESCRIPTION:Post HOD
URL:https://mdhatoday.org/event/bot-meeting-3/
END:VEVENT
BEGIN:VEVENT
DTSTART;TZID=America/Detroit:20231021T080000
DTEND;TZID=America/Detroit:20231022T170000
DTSTAMP:20260425T222250
CREATED:20230605T171837Z
LAST-MODIFIED:20230605T171837Z
UID:5773-1697875200-1697994000@mdhatoday.org
SUMMARY:2023 House of Delegates
DESCRIPTION:Details to be announced
URL:https://mdhatoday.org/event/2023-house-of-delegates/
END:VEVENT
BEGIN:VEVENT
DTSTART;TZID=America/Detroit:20231020T080000
DTEND;TZID=America/Detroit:20231020T170000
DTSTAMP:20260425T222250
CREATED:20231013T164817Z
LAST-MODIFIED:20231013T164817Z
UID:6035-1697788800-1697821200@mdhatoday.org
SUMMARY:HOD Event - October CE
DESCRIPTION:CE Sessions for the October 20th\, 2023 HOD Event\n\nPlease Note: This Year the HOD session has two CE events and requires just one registration. \nSession 1: 9am – 10am – From Burnout to Recovery: Strategic Solutions Used to Address and Manage Burnout \nSession 2: 10:15am – 12:15pm – The Missing Piece: Decoding the Newest Periodontal Classification System and the Aggressive Periodontitis Puzzle. \nBelow are the details for each of these sessions \nSession 1 \nOctober 20\, 2023 (9am – 10am) \n1 CE Virtual Presentation \nSpeaker: Kari Cherelus RDH\, DA \nThis event is sponsored by: \n\nAccording to the World Health Organization\, burnout syndrome is a result of chronic workplace stress that has not been successfully managed.  Dental care providers suffer from burnout at an alarming rate.  Dental care providers who suffer from burnout may deliver less than satisfactory patient care due to their overwhelming stress level.  This interactive discussion will provide an overview on how to identify burnout and successfully implement strategies to overcome the damaging effects. \n  \nAbout the Speaker\nKari Cherelus is a public speaker\, consultant\, and an author with twenty one years of experience as a healthcare provider. Kari knows firsthand how working in a hostile work environment can contribute to the feeling of burnout\, negatively effecting ones overall health and confidence. She authored the book The Ultimate Guide for Dental Hygienist Burnout to help dental hygienists in all stages of their career. Kari uses her platform as Founder of KMC Strategic Solutions to help improve work culture in teams and organizations as well as to coach individuals. Kari endeavors to help fellow colleagues suffering from burnout\, hostile work environments\, and improve work cultures in organizations to help retain and support employees. Kari helps others to rediscovering their passion by realigning and empowering themselves to make positive changes in their lives. \n  \n \nSession 2 \nOctober 20\, 2023 (10:15am – 12:15pm) \n2 CE Virtual Presentation \nSpeaker: Sandra Stuhr\, DMD\, MS \n“The Missing Piece: Decoding the Newest Periodontal Classification System and the Aggressive Periodontitis Puzzle” \n  \nThis program will provide a brief overview of the 2017 AAP/EFP World Workshop Classification for Periodontal and Peri-Implant Diseases and Conditions\, with a focus on diagnosis and treatment of Molar/Incisor Pattern Grade C (formerly known as aggressive periodontitis) using clinical cases. \nCourse objectives: \n·       Discuss the most updated periodontal and peri-implant classification\, including “Grey Zone” areas \n·       Learn primary and secondary features of Molar/Incisor Pattern Grade C periodontitis (MIP-C) \n·       Identify diagnostic approaches and treatment options for MIP-C patients based on the existing classification \n·       Discuss case presentations of non-surgical and surgical management\, and future directions \n \nAbout the Speaker\n\nSandra Stuhr\, DMD\, MS is a Clinical Assistant Professor of Periodontics at the University of Michigan School of Dentistry. She is a Diplomate of the American Board of Periodontology\, which is her area of clinical practice. Her research publications involve soft tissue biology and wound healing\, dimensional changes after tooth extraction\, and aggressive forms of periodontitis.
URL:https://mdhatoday.org/event/hod-event-october-ce/
LOCATION:Zoom Virtual Meetings
END:VEVENT
BEGIN:VEVENT
DTSTART;TZID=America/Detroit:20231020T080000
DTEND;TZID=America/Detroit:20231020T170000
DTSTAMP:20260425T222250
CREATED:20221213T162400Z
LAST-MODIFIED:20221213T162413Z
UID:5597-1697788800-1697821200@mdhatoday.org
SUMMARY:MDHA Pre-HOD Seminar
DESCRIPTION:
URL:https://mdhatoday.org/event/mdha-pre-hod-seminar/
END:VEVENT
BEGIN:VEVENT
DTSTART;TZID=America/Detroit:20231012T100000
DTEND;TZID=America/Detroit:20231012T110000
DTSTAMP:20260425T222250
CREATED:20221207T184719Z
LAST-MODIFIED:20221207T184719Z
UID:5557-1697104800-1697108400@mdhatoday.org
SUMMARY:Michigan Board of Dentistry Meeting
DESCRIPTION:All RDH’s welcomed at Board of Dentistry Meetings \n 
URL:https://mdhatoday.org/event/michigan-board-of-dentistry-meeting-2023-10-12/
LOCATION:611 W Ottawa Street\, Lansing\, MI\, 611 W Ottawa Street\, Lansing\, MI\, United States
END:VEVENT
END:VCALENDAR